BEGIN:VCALENDAR
VERSION:2.0
PRODID:-//Sword To Sword - ECPv6.15.20//NONSGML v1.0//EN
CALSCALE:GREGORIAN
METHOD:PUBLISH
X-WR-CALNAME:Sword To Sword
X-ORIGINAL-URL:https://swordtosword.org
X-WR-CALDESC:Events for Sword To Sword
REFRESH-INTERVAL;VALUE=DURATION:PT1H
X-Robots-Tag:noindex
X-PUBLISHED-TTL:PT1H
BEGIN:VTIMEZONE
TZID:UTC
BEGIN:STANDARD
TZOFFSETFROM:+0000
TZOFFSETTO:+0000
TZNAME:UTC
DTSTART:20180101T000000
END:STANDARD
END:VTIMEZONE
BEGIN:VEVENT
DTSTART;TZID=UTC:20190603T193000
DTEND;TZID=UTC:20190603T220000
DTSTAMP:20260422T101049
CREATED:20190521T162653Z
LAST-MODIFIED:20190521T163722Z
UID:169-1559590200-1559599200@swordtosword.org
SUMMARY:Introductions To Longsword
DESCRIPTION:Come and get an introduction on how to fight using the Longsword!
URL:https://swordtosword.org/event/introductions-to-longsword/
LOCATION:Sword To Sword\, 1212A Cedar Post Ln\, Houston\, TX\, 77055\, United States
ATTACH;FMTTYPE=image/jpeg:https://swordtosword.org/wp-content/uploads/2018/07/20150922__AF12260-1.jpg
END:VEVENT
END:VCALENDAR